Workbook

Sheet Summary
A1: Annexure Filing under clause (d) of sub-regulation (5) of regulation 31 of the IBBI (Liquidation Process) Regulations, 2016
A2: Name of the corporate debtor: Goetc Private Limited; Date of commencement of liquidation: 01/07/2026 ; List of stakeholders as on: 13/102026
A3: (Amount in ₹)
A4: Sl. No. | B4: Category of stakeholders | C4: Summary of claims received | E4: Summary of claims admitted | G4: Amount of contingent claims | I4: Amount of claims rejected | J4: Amount of claims under verification | K4: Details in Annexure | L4: Remark, if any
C5: No. of claims | D5: Amount | E5: No. of claims | F5: Amount
A6: 1 | B6: Unpaid insolvency resolution process costs | F6: 354000 | K6: NA
A7: 2 | B7: Liquidation costs incurred till date | F7: =F6+52321 -> 406321 | K7: NA
A8: 3 | B8: Secured financial creditors | K8: 1
A9: 4 | B9: Unsecured financial creditors | C9: 1 | D9: ='Annex-2'!D6 -> 5176170 | E9: 0 | F9: 0 | G9: 0 | I9: ='Annex-2'!N6 -> 5176170 | J9: 0 | K9: 2
A10: 5 | B10: Operational creditors (Workmen) | K10: 3
A11: 6 | B11: Operational creditors (Employees) | K11: 4
A12: 7 | B12: Operational creditors (Government Dues) | K12: 5
A13: 8 | B13: Operational creditors (other than Workmen, Employees and Government Dues) | C13: ='Annx-6'!A10 -> 4 | D13: ='Annx-6'!D10 -> 23545140 | E13: 3 | F13: ='Annx-6'!E10 -> 17440893 | G13: 1301029 | J13: 4803218 | K13: 6
A14: 9 | B14: Other stakeholders, if any (other than financial creditors and operational creditors) | K14: 7
A15: Total | C15: =SUM(C8:C14) -> 5 | D15: =SUM(D8:D14) -> 28721310 | E15: =SUM(E8:E14) -> 3 | F15: =SUM(F6:F14) -> 18201214 | G15: =SUM(G8:H14) -> 1301029 | I15: =SUM(I8:I14) -> 5176170 | J15: =SUM(J8:J14) -> 4803218

Sheet Annex-1
A1: Annexure-1
A2: List of secured financial creditors (Amount in ₹)
A3: Sl. No. | B3: Name of creditor | D3: Details of claim received | H3: Details of claim admitted | T3: Amount of contingent claim | U3: Amount of any mutual dues, that may be set off | W3: Amount of claim rejected | Y3: Amount of claim under verification | AA3: Remarks, if any
D4: Date of receipt | F4: Amount claimed | H4: Amount of claim admitted | J4: Nature of claim | K4: Amount covered by security interest | M4: Whether security interest relinquished? (Yes/No) | O4: Details of Security Interest | Q4: Amount covered by guarantee | S4: % share in total amount of claims admitted

Sheet Annex-2
A1: Annexure-2
A2: Name of the corporate debtor: ……………………; Date of commencement of liquidation: ………………….; List of stakeholders as on: …………………
A3: List of unsecured financial creditors (Amount in ₹)
A4: Sl. No. | B4: Name of creditor | C4: Details of claim received | E4: Details of claim admitted | L4: Amount of contingent claim | M4: Amount of a ny mutual dues, that may be set off | N4: Amuont of Claim Rejected | O4: Amount of claim under verification | P4: Remarks, if any
C5: Date of receipt | D5: Amount claimed | E5: Amount of claim admitted | F5: Nature of claim | G5: Amount Covered by Security Interest | H5: Wheather Security Interest relinquished? (YES?NO) | I5: Details of Security Interest | J5: Amount covered by guarantee | K5: % share in total amount of claims admitted
A6: 1 | B6: Amrutha finance Pvt Ltd | C6: 46001 | D6: 5176170 | E6: 0 | F6: Financial Creditor | G6: 0 | H6: NO | I6: 0 | J6: 0 | K6: 0 | L6: 0 | M6: 0 | N6: 5176170 | O6: 0 | P6: Petition Pending disposal

Sheet Annex-3
A1: Annexure-3 Name of the corporate debtor: …………………………; Date of commencement of liquidation: ……………….; List of stakeholders as on: ……………………
A2: List of operational creditors (Workmen)
A3: Sl. No. | B3: Name of authorised representative, if any | C3: Name of workman | D3: Details of claim received | F3: Details of claim admitted | J3: Amount of contingent claim | K3: Amount of any mutual dues, that may be set off | L3: Amount of claim rejected | N3: Amount of claim under verification | O3: Remarks, if any
D4: Date of receipt | E4: Amount claimed | F4: Total amount of claim admitted | G4: Amount of claim for the period of twenty-four months preceding the liquidation commencement date | H4: Nature of claim | I4: % share in total amount of claims admitted

Sheet Annex-4
A1: Annexure-4 Name of the corporate debtor: ……………………; Date of commencement of liquidation: ………………….; List of stakeholders as on: ……………………
A2: List of operational creditors (Employees) (Amount in ₹)
A3: Sl. No. | B3: Name of authorised representative, if any | C3: Name of employee | D3: Details of claim received | F3: Details of claim admitted | J3: Amount of contingent claim | K3: Amount of any mutual dues, that may be set off | L3: Amount of claim rejected | M3: Amount of claim under verification | N3: Remarks, if any
D4: Date of receipt | E4: Amount claimed | F4: Total am ount of claim admitted | G4: Amount of claim for the period of twelve months preceding the liquidation commencement date | H4: Nature of claim | I4: % share in total amount of claims admitted

Sheet Annex-5
A1: Annexure-5
A2: Name of the corporate debtor: ………………; Date of commencement of liquidation: ………………….; List of stakeholders as on: ………………………
A3: List of operational creditors (Government Dues) (Amount in ₹)
A4: Sl. No. | B4: Details of Claimant | F4: Details of claim received | J4: Details of claim admitted | R4: Amount of contingent claim | T4: Amount of any mutual dues, that may be set off | V4: Amount of claim rejected | X4: Amount of claim under verification | Y4: Remarks, if any
B5: Department | D5: Government | F5: Date of receipt | H5: Amount claimed | J5: Amount of claim admitted | K5: Nature of claim | L5: Amount covered by lien or attachment pending disposal | N5: Whether lien / attachment removed? (Yes/No) | P5: % share in total amount of claims admitted

Sheet Annx-6
A1: Annexure-6
A2: Name of the corporate debtor: Geotech Private Limited : Date of commencement of liquidation: 01/07/2026; List of stakeholders as on: 13/10/2026
A3: List of operational creditors (other than Workmen, Employees and Government Dues) (Amount in ₹)
A4: Sl. No. | B4: Name of creditor | C4: Details of claim received | E4: Details of claim admitted | Q4: Amount of contingent claim | S4: Amount of any mutual dues, that may be set off | U4: Amount of claim rejected | W4: Amount of claim under verification | Z4: Remarks, if any
C5: Date of receipt | D5: Amount claimed | E5: Amount of claim admitted | G5: Nature of claim | I5: Amount covered by lien or attachment pending disposal | K5: Whether lien / attachment removed? (Yes/No) | M5: Amount covered by guarantee | O5: % share in total amount of claims admitted
A6: 1 | B6: One 97 Communications Ltd | C6: 45932 | D6: 17337150 | E6: 13468003 | G6: Operational Creditor | I6: 0 | K6: NO | M6: 0 | O6: =E6/$E$10 -> 0.77220834 | Q6: 0 | S6: 0 | U6: 0 | W6: 3869147
A7: 2 | B7: No Broker Technology Solutions Pvt Ltd | C7: 45947 | D7: 4407491 | E7: 3588682 | G7: Operational Creditor | I7: 0 | K7: NO | M7: 0 | O7: =E7/$E$10 -> 0.20576251 | W7: 818809
A8: 3 | B8: Team Computers Pvt Ltd | C8: 45968 | D8: 499470 | E8: 384208 | G8: Operational Creditor | I8: 0 | K8: NO | M8: 0 | O8: =E8/$E$10 -> 0.022029147 | W8: 115262
A9: 4 | B9: Adonmo Pvt Ltd | C9: 46286 | D9: 1301029 | E9: 0 | G9: Operational Creditor | I9: 0 | K9: NO | M9: 0 | O9: =E9/$E$10 -> 0 | Q9: =D9 -> 1301029 | S9: 0 | Z9: Belated Submission
A10: =COUNT(A6:A9) -> 4 | D10: =SUM(D6:D9) -> 23545140 | E10: =SUM(E6:E9) -> 17440893 | O10: =SUM(O6:P9) -> 1 | Q10: =SUM(Q6:R9) -> 1301029 | S10: =SUM(S6:T9) -> 0 | U10: =SUM(U6:V9) -> 0 | W10: =SUM(W6:Y9) -> 4803218

Sheet Annex-7
A1: Annexure-7
A2: Name of the corporate debtor: Geotech Private Limited : Date of commencement of liquidation: 01/07/2026; List of stakeholders as on: 13/10/2026
A3: List of other stakeholders, if any (other than financial creditors and operational creditors) (Amount in ₹)
A4: Sl. No . | B4: Name of stakeholder | C4: Category of stakeholders ( preference shareholders / equity shareholders / partners / others) | D4: Details of claim received | F4: Details of claim admitted | L4: Amount of contingent claim | M4: Amount of any mutual dues, that may be set off | N4: Amount of claim rejected | O4: Amount of claim under verification | P4: Remarks, if any
D5: Date of receipt | E5: Amount claimed | F5: Amount of claim admitte d | G5: Nature of claim | H5: Amount covered by lien or attachment pending disposal | I5: Whether lien / attachment removed? (Yes/No) | J5: Amount covered by guarantee | K5: % share in total amount of claims admitted
A7: 2
